BEGIN:VCALENDAR
VERSION:2.0
PRODID:-//Liberty and Peace - ECPv6.15.11//NONSGML v1.0//EN
CALSCALE:GREGORIAN
METHOD:PUBLISH
X-WR-CALNAME:Liberty and Peace
X-ORIGINAL-URL:https://lpchicago.org
X-WR-CALDESC:Events for Liberty and Peace
REFRESH-INTERVAL;VALUE=DURATION:PT1H
X-Robots-Tag:noindex
X-PUBLISHED-TTL:PT1H
BEGIN:VTIMEZONE
TZID:America/Chicago
BEGIN:DAYLIGHT
TZOFFSETFROM:-0600
TZOFFSETTO:-0500
TZNAME:CDT
DTSTART:20240310T080000
END:DAYLIGHT
BEGIN:STANDARD
TZOFFSETFROM:-0500
TZOFFSETTO:-0600
TZNAME:CST
DTSTART:20241103T070000
END:STANDARD
BEGIN:DAYLIGHT
TZOFFSETFROM:-0600
TZOFFSETTO:-0500
TZNAME:CDT
DTSTART:20250309T080000
END:DAYLIGHT
BEGIN:STANDARD
TZOFFSETFROM:-0500
TZOFFSETTO:-0600
TZNAME:CST
DTSTART:20251102T070000
END:STANDARD
BEGIN:DAYLIGHT
TZOFFSETFROM:-0600
TZOFFSETTO:-0500
TZNAME:CDT
DTSTART:20260308T080000
END:DAYLIGHT
BEGIN:STANDARD
TZOFFSETFROM:-0500
TZOFFSETTO:-0600
TZNAME:CST
DTSTART:20261101T070000
END:STANDARD
END:VTIMEZONE
BEGIN:VEVENT
DTSTART;TZID=America/Chicago:20251007T190000
DTEND;TZID=America/Chicago:20251007T210000
DTSTAMP:20260422T172604
CREATED:20251007T004606Z
LAST-MODIFIED:20251007T004820Z
UID:1795-1759863600-1759870800@lpchicago.org
SUMMARY:LP Chicago October 2025 Meeting
DESCRIPTION:We welcome any and all interested in learning more about the strongest ‘third party’ in politics. You don’t have to be a member of the Libertarian Party to attend and we encourage people of all political persuasions to come. This is your chance to make new friends with like-minded individuals. \nIf you have been collecting signatures for petitions\, please bring them in for Notarization. The deadline to bring them in to us is October 31! \nThis Guest Presentation will be The Campaign\, and on to the next with Chris Laurent! \nJoin the LP Chicago: http://tinyurl.com/LPChicagoJoin\nJoin the LP Illinois: http://www.lpillinois.com/join\nhttps://www.facebook.com/share/1684MkFeGu/\n \nNew Attendees Welcome \nAgenda:\n7 PM – Call to Order \nApproval of Minutes \nOfficer Reports\n– Chair\n– Vice-Chair\n– Secretary\n– Treasurer\n– Fundraising Chair\n– Communications Chair \nOngoing Business \nNew Business \nGuest Presentation
URL:https://lpchicago.org/event/lp-chicago-october-2025-meeting/
LOCATION:Fatpour Tap Works (Wicker Park)\, 2005 W Division St\, Chicago\, IL\, 60622\, United States
ATTACH;FMTTYPE=image/jpeg:https://lpchicago.org/wp-content/uploads/FATP.jpg
END:VEVENT
END:VCALENDAR